{"text_format":"3","workbook":"xlsx","n_sheets":2,"sheets":["VERASOLA","DATA"],"not_rendered":{"images":5,"defined_names":1},"read":"whole","date_system":"1900"}

{"sheet":"VERASOLA","index":0,"n_rows":42,"n_cols":19,"rows_kept":42,"merged":[[0,0,1,13],[0,14,0,19],[1,18,1,19],[2,0,8,1],[2,2,5,5],[2,6,2,13],[2,14,2,19],[3,6,4,7],[3,8,4,13],[3,14,5,19],[5,6,6,7],[5,8,6,13],[6,2,8,5],[6,14,8,19],[7,6,7,7],[7,8,7,13],[8,6,8,7],[8,8,8,13],[10,0,11,1],[10,2,11,3],[10,4,10,11],[11,4,11,7],[11,8,11,11],[12,0,15,1],[12,2,15,3],[12,7,15,7],[12,8,15,10],[12,11,15,11],[17,0,18,1],[17,2,18,3],[17,4,18,5],[17,6,18,7],[17,8,18,9],[17,10,18,11],[19,0,19,1],[19,2,19,3],[19,4,19,5],[19,6,19,7],[19,8,19,9],[19,10,19,11],[20,0,22,1],[20,2,22,3],[20,4,22,5],[20,6,22,7],[20,8,22,9],[20,10,22,11],[24,0,27,2],[24,3,24,5],[24,6,24,8],[24,9,24,11],[25,3,27,4],[25,5,27,5],[25,6,27,7],[25,8,27,8],[25,9,27,10],[25,11,27,11],[28,0,30,2],[28,3,30,4],[28,5,30,5],[28,6,30,7],[28,8,30,8],[28,9,30,10],[28,11,30,11],[32,0,32,3],[33,0,34,2],[33,3,34,3],[38,13,39,18],[41,0,41,1],[41,2,47,19],[42,0,47,1]]}
["VERASOLA",{"$nulls":13},{"$f":"VLOOKUP(A3,DATA!A1:BF4,4,FALSE)","v":"Data:"}]
[{"$nulls":14},"01","/","01","/",2023]
["PL",null,"MOL Sp. z o.o. \nUl. Szkółkarska 17, \n62-002, Suchy Las \n061-652-13-13 \n779-00-16-363",{"$nulls":3},{"$f":"VLOOKUP(A3,DATA!A1:BF4,2,FALSE)","v":"Klient:"},{"$nulls":7},{"$f":"VLOOKUP(A3,DATA!A1:BF4,3,FALSE)","v":"REF:"}]
[{"$nulls":6},{"$f":"VLOOKUP(A3,DATA!A1:BF4,29,FALSE)","v":"Nazwa:"},{"$nulls":7},"\n..........................................."]
[]
[{"$nulls":6},{"$f":"VLOOKUP(A3,DATA!A1:BF4,30,FALSE)","v":"Adres:"}]
[{"$nulls":14},"VES - ……..."]
[{"$nulls":6},{"$f":"VLOOKUP(A3,DATA!A1:BF4,31,FALSE)","v":"email:"}]
[{"$nulls":6},{"$f":"VLOOKUP(A3,DATA!A1:BF4,32,FALSE)","v":"Tel.:"}]
[]
[{"$f":"VLOOKUP(A3,DATA!A1:BF4,5,FALSE)","v":"Ilość"},null,{"$f":"VLOOKUP(A3,DATA!A1:BF4,6,FALSE)","v":"Kolor konstrukcji"},null,{"$f":"VLOOKUP(A3,DATA!A1:BF4,7,FALSE)","v":"Typ instalacji"}]
[{"$nulls":4},{"$f":"VLOOKUP(A3,DATA!A1:BF4,8,FALSE)","v":"Ściana "},{"$nulls":3},{"$f":"VLOOKUP(A3,DATA!A1:BF4,9,FALSE)","v":"Sufit"}]
[]
[]
[]
[]
[]
[{"$f":"VLOOKUP(A3,DATA!A1:BF4,11,FALSE)","v":"Szerokość"},null,{"$f":"VLOOKUP(A3,DATA!A1:BF4,12,FALSE)","v":"Wysięg"},null,{"$f":"VLOOKUP(A3,DATA!A1:BF4,13,FALSE)","v":"Wysokość instalacji"},null,{"$f":"VLOOKUP(A3,DATA!A1:BF4,14,FALSE)","v":"Wysokość słupa"},null,{"$f":"VLOOKUP(A3,DATA!A1:BF4,15,FALSE)","v":"Kąt pochylenia"},null,{"$f":"VLOOKUP(A3,DATA!A1:BF4,16,FALSE)","v":"Pozycja wsporników"}]
[]
["S [mm]",null,"W [mm]",null,"H1 [mm]",null,"H2 [mm]*",null,"α [Deg]",null,"B [mm]"]
[]
[]
[]
[]
[{"$f":"VLOOKUP(A3,DATA!A1:BF4,10,FALSE)","v":"Tkanina"},null,null,{"$f":"VLOOKUP(A3,DATA!A1:BF4,17,FALSE)","v":"Strona napędu"},null,null,{"$f":"VLOOKUP(A3,DATA!A1:BF4,20,FALSE)","v":"Silnik"},null,null,{"$f":"VLOOKUP(A3,DATA!A1:BF4,21,FALSE)","v":"Pilot"}]
[{"$nulls":3},{"$f":"VLOOKUP(A3,DATA!A1:BF4,18,FALSE)","v":"Prawa"},null,null,"Somfy IO",null,null,{"$f":"VLOOKUP(A3,DATA!A1:BF4,22,FALSE)","v":"1 kanał"}]
[]
[]
[{"$nulls":3},{"$f":"VLOOKUP(A3,DATA!A1:BF4,19,FALSE)","v":"Lewa"},null,null,"Torro",null,null,{"$f":"VLOOKUP(A3,DATA!A1:BF4,23,FALSE)","v":"5 kanał."}]
[]
[]
[]
[{"$f":"VLOOKUP(A3,DATA!A1:BF4,24,FALSE)","v":"Czujnik"}]
[{"$f":"VLOOKUP(A3,DATA!A1:BF4,25,FALSE)","v":"czujnik wiatru tylko SOMFY"}]
[]
[]
[]
[]
[{"$nulls":13},{"$f":"VLOOKUP(A3,DATA!A1:BF4,33,FALSE)","v":"Standardowa wysokość frontu 200cm."}]
[]
[]
[{"$f":"VLOOKUP(A3,DATA!A1:BF4,28,FALSE)","v":"Uwagi:"}]

{"sheet":"DATA","index":1,"n_rows":37,"n_cols":33,"rows_kept":37,"hidden":true}
["ENG","Client:","REF:","Date:","Quantity","Structure color","type of installation","Wall","Ceiling","Fabric","Width","Projection","Installation height","Column's height","Inclination angle","Brackets' position","Drive side","Right","Left","Motor","Remote control","1 channel","5 channels","Sensors","Wind sensor SOMFY only",null,null,"Notes: ","Name:","Address:","email:","Tel.:","The standard frontal height is 200cm."]
["DE","Klient:","REF:","Datum:","Menge","Strukturfarbe","Art der Installation","Wand","Decke","Tuch","Breite","Ausfall","Montagehöhe","Säulenhöhe","Neigungswinkel","Halterungsposition","Antriebsseite","Rechts","Links","Motor","Fernbedienung"," 1 Kanal ","5 Kanäle","Sensoren","Windsensor Nur SOMFY",null,null,"Hinweise:","Name:","Adresse:","email:","Tel.:","Die Standardfronthöhe beträgt 200 cm."]
["PL","Klient:","REF:","Data:","Ilość","Kolor konstrukcji","Typ instalacji","Ściana ","Sufit","Tkanina","Szerokość","Wysięg","Wysokość instalacji","Wysokość słupa","Kąt pochylenia","Pozycja wsporników","Strona napędu","Prawa","Lewa","Silnik","Pilot","1 kanał","5 kanał.","Czujnik","czujnik wiatru tylko SOMFY",null,null,"Uwagi:","Nazwa:","Adres:","email:","Tel.:","Standardowa wysokość frontu 200cm."]
["FR","Client:","RÉF :","Date:","Quantité","Couleur de structure","Type de pose","Mur","Plafond","Tissu","Largeur ","Projection ","Hauteur d'installation ","Hauteur des pieds ","Angle d'inclinaison ","Position des supports","Sortie filaire","Droit","Gauche","Moteur","Telecommande","1 canal","5 canaux","Capteur","Capteur de vent SOMFY seulement",null,null,"Remarques:","Nom:","Adresse:","email:","Tel.:","La hauteur frontale standard est de 200 cm."]
[{"$nulls":25},"Sun sensor SOMFY only","Rain sensor SOMFY only"]
[{"$nulls":25},"Sonnensensor Nur SOMFY","Regensensor Nur SOMFY"]
["01","01",2023,{"$nulls":22},"Czujnik słońca tylko SOMFY","Czujnik deszczu tylko SOMFY"]
["02","02",{"$f":"1+C7","v":2024},{"$nulls":22},"Capteur de soleil SOMFY seulement","Capteur pluie SOMFY seulement"]
["03","03",{"$f":"1+C8","v":2025}]
["04","04",2026]
["05","05",2027]
["06","06",2028]
["07","07",2029]
["08","08",2030]
["09","09",2031,{"$nulls":9},"                 "]
[{"$f":"A15+1","v":10},{"$f":"B15+1","v":10},2032]
[11,11,2033]
[12,12,2034]
[13,null,2035]
[14,null,2036]
[15,null,2037]
[16,null,2038]
[17,null,2039]
[18,null,2040]
[19]
[20]
[21]
[22]
[23]
[24]
[25]
[26]
[27]
[28]
[29]
[30]
[31]